BEGIN:VCALENDAR
VERSION:2.0
METHOD:PUBLISH
PRODID:-//CLC//v1.0//EN
X-WR-TIMEZONE:US/Pacific
CALSCALE:GREGORIAN
BEGIN:VEVENT
UID:-event-41
DTSTAMP:20221008T090000
DTSTART:20221008T090000
DTEND:20221008T120000
SUMMARY: Event Join us for Green Tacoma Day at Gog-Le-Hi-Te!
LOCATION:Gog-Le-Hi-Te I
ORGANIZER;CN=Jacob Childers
CATEGORIES:Work Party
CLASS:PUBLIC
CONTACT:jchilders@forterra.org
END:VEVENT
END:VCALENDAR
